BEGIN:VCALENDAR
VERSION:2.0
PRODID:-//Folk en Diois - ECPv6.15.20//NONSGML v1.0//EN
CALSCALE:GREGORIAN
METHOD:PUBLISH
X-ORIGINAL-URL:https://folkendiois.fr
X-WR-CALDESC:Évènements pour Folk en Diois
REFRESH-INTERVAL;VALUE=DURATION:PT1H
X-Robots-Tag:noindex
X-PUBLISHED-TTL:PT1H
BEGIN:VTIMEZONE
TZID:Europe/Paris
BEGIN:DAYLIGHT
TZOFFSETFROM:+0100
TZOFFSETTO:+0200
TZNAME:CEST
DTSTART:20170326T010000
END:DAYLIGHT
BEGIN:STANDARD
TZOFFSETFROM:+0200
TZOFFSETTO:+0100
TZNAME:CET
DTSTART:20171029T010000
END:STANDARD
BEGIN:DAYLIGHT
TZOFFSETFROM:+0100
TZOFFSETTO:+0200
TZNAME:CEST
DTSTART:20180325T010000
END:DAYLIGHT
BEGIN:STANDARD
TZOFFSETFROM:+0200
TZOFFSETTO:+0100
TZNAME:CET
DTSTART:20181028T010000
END:STANDARD
BEGIN:DAYLIGHT
TZOFFSETFROM:+0100
TZOFFSETTO:+0200
TZNAME:CEST
DTSTART:20190331T010000
END:DAYLIGHT
BEGIN:STANDARD
TZOFFSETFROM:+0200
TZOFFSETTO:+0100
TZNAME:CET
DTSTART:20191027T010000
END:STANDARD
END:VTIMEZONE
BEGIN:VEVENT
DTSTART;VALUE=DATE:20181022
DTEND;VALUE=DATE:20181023
DTSTAMP:20260424T055505
CREATED:20181005T103128Z
LAST-MODIFIED:20181021T135746Z
UID:3138-1540166400-1540252799@folkendiois.fr
SUMMARY:Atelier de danses folk avec Astriam - Luc-en-Diois
DESCRIPTION:C’est tout nouveau !\nCette année\, des ateliers de danse vous sont aussi proposés à Luc-en-Diois ! Ils auront également lieu les lundis soirs\, en alternance avec Die.\n \nAnimé par le groupe Astriam\nRendez-vous à la salle des Voconces à 18h30 !\nParticipation libre aux frais
URL:https://folkendiois.fr/event/atelier-de-danses-folk-astriam-luc-diois/
LOCATION:Salle des Voconces\, Luc-en-Diois\, 26310\, France
ORGANIZER;CN="Folk en Diois":MAILTO:lanuitdufolkdioise@gmail.com
END:VEVENT
END:VCALENDAR