BEGIN:VCALENDAR
VERSION:2.0
PRODID:-//Folk en Diois - ECPv6.15.20//NONSGML v1.0//EN
CALSCALE:GREGORIAN
METHOD:PUBLISH
X-ORIGINAL-URL:https://folkendiois.fr
X-WR-CALDESC:Évènements pour Folk en Diois
REFRESH-INTERVAL;VALUE=DURATION:PT1H
X-Robots-Tag:noindex
X-PUBLISHED-TTL:PT1H
BEGIN:VTIMEZONE
TZID:Europe/Paris
BEGIN:DAYLIGHT
TZOFFSETFROM:+0100
TZOFFSETTO:+0200
TZNAME:CEST
DTSTART:20170326T010000
END:DAYLIGHT
BEGIN:STANDARD
TZOFFSETFROM:+0200
TZOFFSETTO:+0100
TZNAME:CET
DTSTART:20171029T010000
END:STANDARD
BEGIN:DAYLIGHT
TZOFFSETFROM:+0100
TZOFFSETTO:+0200
TZNAME:CEST
DTSTART:20180325T010000
END:DAYLIGHT
BEGIN:STANDARD
TZOFFSETFROM:+0200
TZOFFSETTO:+0100
TZNAME:CET
DTSTART:20181028T010000
END:STANDARD
BEGIN:DAYLIGHT
TZOFFSETFROM:+0100
TZOFFSETTO:+0200
TZNAME:CEST
DTSTART:20190331T010000
END:DAYLIGHT
BEGIN:STANDARD
TZOFFSETFROM:+0200
TZOFFSETTO:+0100
TZNAME:CET
DTSTART:20191027T010000
END:STANDARD
END:VTIMEZONE
BEGIN:VEVENT
DTSTART;VALUE=DATE:20181214
DTEND;VALUE=DATE:20181215
DTSTAMP:20260424T030248
CREATED:20181129T202548Z
LAST-MODIFIED:20181129T203719Z
UID:3248-1544745600-1544831999@folkendiois.fr
SUMMARY:Soirée Folk au cinéma Le Pestel - Die
DESCRIPTION:20h30 > Projection du film Le Grand Bal\nC’est l’histoire d’un bal. D’un grand bal. Chaque été\, plus de deux mille personnes affluent de toute l’Europe dans un coin de campagne française. Pendant 7 jours et 8 nuits\, ils dansent encore et encore\, perdent la notion du temps\, bravent leurs fatigues et leurs corps. Ça tourne\, ça rit\, ça virevolte\, ça pleure\, ça chante. Et la vie pulse.\n–\n22h > Bal folk avec Astriam et Le Bal de l’Ephémère\nDans le hall du cinéma\n* Participation au chapeau pour les musiciens *\n– \nPossibilité de dîner sur place avant le film\, à 19h30\, au Café du Pestel – repas végétarien (réservations au 06 75 86 89 27)
URL:https://folkendiois.fr/event/soiree-folk-cinema-pestel-die/
LOCATION:Cinéma Le Pestel\, avenue de la Division du Texas\, Die\, 26150
ORGANIZER;CN="Folk en Diois":MAILTO:lanuitdufolkdioise@gmail.com
END:VEVENT
END:VCALENDAR