BEGIN:VCALENDAR
VERSION:2.0
PRODID:-//Folk en Diois - ECPv6.15.20//NONSGML v1.0//EN
CALSCALE:GREGORIAN
METHOD:PUBLISH
X-ORIGINAL-URL:https://folkendiois.fr
X-WR-CALDESC:Évènements pour Folk en Diois
REFRESH-INTERVAL;VALUE=DURATION:PT1H
X-Robots-Tag:noindex
X-PUBLISHED-TTL:PT1H
BEGIN:VTIMEZONE
TZID:Europe/Paris
BEGIN:DAYLIGHT
TZOFFSETFROM:+0100
TZOFFSETTO:+0200
TZNAME:CEST
DTSTART:20180325T010000
END:DAYLIGHT
BEGIN:STANDARD
TZOFFSETFROM:+0200
TZOFFSETTO:+0100
TZNAME:CET
DTSTART:20181028T010000
END:STANDARD
BEGIN:DAYLIGHT
TZOFFSETFROM:+0100
TZOFFSETTO:+0200
TZNAME:CEST
DTSTART:20190331T010000
END:DAYLIGHT
BEGIN:STANDARD
TZOFFSETFROM:+0200
TZOFFSETTO:+0100
TZNAME:CET
DTSTART:20191027T010000
END:STANDARD
BEGIN:DAYLIGHT
TZOFFSETFROM:+0100
TZOFFSETTO:+0200
TZNAME:CEST
DTSTART:20200329T010000
END:DAYLIGHT
BEGIN:STANDARD
TZOFFSETFROM:+0200
TZOFFSETTO:+0100
TZNAME:CET
DTSTART:20201025T010000
END:STANDARD
END:VTIMEZONE
BEGIN:VEVENT
DTSTART;VALUE=DATE:20190210
DTEND;VALUE=DATE:20190211
DTSTAMP:20260424T055304
CREATED:20180923T141200Z
LAST-MODIFIED:20180923T141200Z
UID:3107-1549756800-1549843199@folkendiois.fr
SUMMARY:Bal des Dimanches Glauques - Eurre
DESCRIPTION:« Froid dehors\, chaud dedans »\nLes Dimanches Glauques sont des après-midis conviviaux de bal avec une scène ouverte\, 3 à 4 rendez-vous dans l’hiver et entrée gratuite pour tous. Venez en famille\, entre amis\, seul(e) ou accompagné(e)\, avec votre bonne humeur et vos souliers pour danser ou votre instrument pour nous faire valser ! \nDe 15h à 19h à la salle des fêtes de Eurre\, buvette sur place.
URL:https://folkendiois.fr/event/bal-dimanches-glauques-eurre-3/
LOCATION:Salle des Fêtes de Eurre\, Eurre\, 26400\, France
ORGANIZER;CN="Tradivarius":MAILTO:tradivarius.eurre@gmail.com 
END:VEVENT
END:VCALENDAR