BEGIN:VCALENDAR
VERSION:2.0
PRODID:-//Folk en Diois - ECPv6.15.20//NONSGML v1.0//EN
CALSCALE:GREGORIAN
METHOD:PUBLISH
X-ORIGINAL-URL:https://folkendiois.fr
X-WR-CALDESC:Évènements pour Folk en Diois
REFRESH-INTERVAL;VALUE=DURATION:PT1H
X-Robots-Tag:noindex
X-PUBLISHED-TTL:PT1H
BEGIN:VTIMEZONE
TZID:Europe/Paris
BEGIN:DAYLIGHT
TZOFFSETFROM:+0100
TZOFFSETTO:+0200
TZNAME:CEST
DTSTART:20180325T010000
END:DAYLIGHT
BEGIN:STANDARD
TZOFFSETFROM:+0200
TZOFFSETTO:+0100
TZNAME:CET
DTSTART:20181028T010000
END:STANDARD
BEGIN:DAYLIGHT
TZOFFSETFROM:+0100
TZOFFSETTO:+0200
TZNAME:CEST
DTSTART:20190331T010000
END:DAYLIGHT
BEGIN:STANDARD
TZOFFSETFROM:+0200
TZOFFSETTO:+0100
TZNAME:CET
DTSTART:20191027T010000
END:STANDARD
BEGIN:DAYLIGHT
TZOFFSETFROM:+0100
TZOFFSETTO:+0200
TZNAME:CEST
DTSTART:20200329T010000
END:DAYLIGHT
BEGIN:STANDARD
TZOFFSETFROM:+0200
TZOFFSETTO:+0100
TZNAME:CET
DTSTART:20201025T010000
END:STANDARD
END:VTIMEZONE
BEGIN:VEVENT
DTSTART;VALUE=DATE:20190416
DTEND;VALUE=DATE:20190417
DTSTAMP:20260424T085259
CREATED:20190406T131042Z
LAST-MODIFIED:20190407T221922Z
UID:3437-1555372800-1555459199@folkendiois.fr
SUMMARY:Bal folk au Café des Voyageurs à Saint-Roman\, avec Chloé
DESCRIPTION:Chloé\nBal à l’accordéon chromatique\n 
URL:https://folkendiois.fr/event/bal-folk-au-cafe-des-voyageurs-a-saint-roman-avec-chloe/
LOCATION:Café des Voyageurs\, Saint-Roman\, 26410\, France
END:VEVENT
END:VCALENDAR