BEGIN:VCALENDAR
VERSION:2.0
PRODID:-//Folk en Diois - ECPv6.15.20//NONSGML v1.0//EN
CALSCALE:GREGORIAN
METHOD:PUBLISH
X-WR-CALNAME:Folk en Diois
X-ORIGINAL-URL:https://folkendiois.fr
X-WR-CALDESC:Évènements pour Folk en Diois
REFRESH-INTERVAL;VALUE=DURATION:PT1H
X-Robots-Tag:noindex
X-PUBLISHED-TTL:PT1H
BEGIN:VTIMEZONE
TZID:Europe/Paris
BEGIN:DAYLIGHT
TZOFFSETFROM:+0100
TZOFFSETTO:+0200
TZNAME:CEST
DTSTART:20180325T010000
END:DAYLIGHT
BEGIN:STANDARD
TZOFFSETFROM:+0200
TZOFFSETTO:+0100
TZNAME:CET
DTSTART:20181028T010000
END:STANDARD
BEGIN:DAYLIGHT
TZOFFSETFROM:+0100
TZOFFSETTO:+0200
TZNAME:CEST
DTSTART:20190331T010000
END:DAYLIGHT
BEGIN:STANDARD
TZOFFSETFROM:+0200
TZOFFSETTO:+0100
TZNAME:CET
DTSTART:20191027T010000
END:STANDARD
BEGIN:DAYLIGHT
TZOFFSETFROM:+0100
TZOFFSETTO:+0200
TZNAME:CEST
DTSTART:20200329T010000
END:DAYLIGHT
BEGIN:STANDARD
TZOFFSETFROM:+0200
TZOFFSETTO:+0100
TZNAME:CET
DTSTART:20201025T010000
END:STANDARD
END:VTIMEZONE
BEGIN:VEVENT
DTSTART;VALUE=DATE:20190922
DTEND;VALUE=DATE:20190923
DTSTAMP:20260424T174607
CREATED:20190901T194450Z
LAST-MODIFIED:20190901T194602Z
UID:3578-1569110400-1569196799@folkendiois.fr
SUMMARY:Sur les pavés\, le trad ! Concert et bal à Die
DESCRIPTION:Dans le cadre magnifique de la cathédrale de Die en Drôme\, l’association Folk en Diois\, en partenariat avec le CMTRA\, vous propose un concert dans la cathédrale suivi d’un bal sur le parvis pour découvrir toute la richesse du patrimoine vivant de notre région !\nCe rendez-vous s’inscrit dans le cadre de « Sur les pavés\, le trad ! » \, événement ayant lieu simultanément dans 7 villes de la région\, pour faire découvrir le patrimoine musical et dansé historiquement présent sur notre territoire\, et sans cesse réinventé par ses habitants.\nAu programme\, chants\, danses et musiques pour passer un bon moment en famille ou entre amis !\n« Sur les pavés le trad ! » est mené par le CMTRA en collaboration avec des associations de musiques et danses traditionnelles de toute la région\, dans le cadre des Journées du Patrimoine 2019.\nA cette occasion\, plusieurs morceaux verront leurs histoires retracées\, expliquées et seront joués en commun par tous les musiciens présents ce week-end là.\nPlus d’infos sur le site du CMTRA.
URL:https://folkendiois.fr/event/sur-les-paves-le-trad-concert-et-bal-a-die/
LOCATION:Cathédrale de Die\, Place de la République\, Die\, 26150
ORGANIZER;CN="Folk en Diois":MAILTO:lanuitdufolkdioise@gmail.com
END:VEVENT
END:VCALENDAR