BEGIN:VCALENDAR
VERSION:2.0
PRODID:-//Folk en Diois - ECPv6.15.20//NONSGML v1.0//EN
CALSCALE:GREGORIAN
METHOD:PUBLISH
X-WR-CALNAME:Folk en Diois
X-ORIGINAL-URL:https://folkendiois.fr
X-WR-CALDESC:Évènements pour Folk en Diois
REFRESH-INTERVAL;VALUE=DURATION:PT1H
X-Robots-Tag:noindex
X-PUBLISHED-TTL:PT1H
BEGIN:VTIMEZONE
TZID:Europe/Paris
BEGIN:DAYLIGHT
TZOFFSETFROM:+0100
TZOFFSETTO:+0200
TZNAME:CEST
DTSTART:20180325T010000
END:DAYLIGHT
BEGIN:STANDARD
TZOFFSETFROM:+0200
TZOFFSETTO:+0100
TZNAME:CET
DTSTART:20181028T010000
END:STANDARD
BEGIN:DAYLIGHT
TZOFFSETFROM:+0100
TZOFFSETTO:+0200
TZNAME:CEST
DTSTART:20190331T010000
END:DAYLIGHT
BEGIN:STANDARD
TZOFFSETFROM:+0200
TZOFFSETTO:+0100
TZNAME:CET
DTSTART:20191027T010000
END:STANDARD
BEGIN:DAYLIGHT
TZOFFSETFROM:+0100
TZOFFSETTO:+0200
TZNAME:CEST
DTSTART:20200329T010000
END:DAYLIGHT
BEGIN:STANDARD
TZOFFSETFROM:+0200
TZOFFSETTO:+0100
TZNAME:CET
DTSTART:20201025T010000
END:STANDARD
END:VTIMEZONE
BEGIN:VEVENT
DTSTART;VALUE=DATE:20190928
DTEND;VALUE=DATE:20190929
DTSTAMP:20260424T163406
CREATED:20190926T145536Z
LAST-MODIFIED:20190926T145536Z
UID:3622-1569628800-1569715199@folkendiois.fr
SUMMARY:Atelier découverte de Forro et bal - Die
DESCRIPTION:Nouveau ! Des cours de forro dans le Diois !\nUn p’tit mot pour vous annoncer ce que nous préparent les copains !\n\n\n\n\n\n\n\n\n\n\n\n\n\n\n\n\n\n\n\nPremier cours à Die au Café-théâtre Andarta\nLE SAMEDI 28 SEPTEMBRE À 18H30\nsuivi d’un bal Forro à 21h.\nPar la suite\, des cours réguliers auront lieu le vendredi à raison d’une séance tous les 15 jours\, entre Buëch et Diois :\n     – une fois par mois dans le Diois (salle en attente de confirmation) à partir du vendredi 4 octobre\,\n     – une fois par mois dans le Buëch à partir du vendredi 18 octobre (salle encore indéterminée).\nNous accueillerons un prof de Marseille originaire de Rio de Janeiro pour assurer les cours. \nSI TU ES DÉJÀ SUPER MOTIVÉ.E POUR LES COURS\, tu peux te PRÉ-INSCRIRE en envoyant un mail à  forrodiois@yules.infini.fr\, en précisant tes coordonnées et ton niveau en forro. Nos traditionnels facebook et agendatrad vous tiendront informés de nos dates et d’éventuels autres événements forro dans le coin. \nVous pouvez également vous inscrire à la newsletter en envoyant un mail à : forrodiois@yules.infini.fr \n>  Le facebook de Forro Diois <\n>  L’agendatrad de Forro Diois < \nA bientôt sur les parquets ! \nPorté par Forro Diois et Forro da Montanha
URL:https://folkendiois.fr/event/atelier-decouverte-de-forro-et-bal-die/
LOCATION:Café Andarta\, 57 rue Emile Laurens\, DIE\, 26150\, France
ORGANIZER;CN="Forro Diois":MAILTO:forrodiois@yules.infini.fr
END:VEVENT
END:VCALENDAR