BEGIN:VCALENDAR
VERSION:2.0
PRODID:-//Folk en Diois - ECPv6.15.20//NONSGML v1.0//EN
CALSCALE:GREGORIAN
METHOD:PUBLISH
X-WR-CALNAME:Folk en Diois
X-ORIGINAL-URL:https://folkendiois.fr
X-WR-CALDESC:Évènements pour Folk en Diois
REFRESH-INTERVAL;VALUE=DURATION:PT1H
X-Robots-Tag:noindex
X-PUBLISHED-TTL:PT1H
BEGIN:VTIMEZONE
TZID:Europe/Paris
BEGIN:DAYLIGHT
TZOFFSETFROM:+0100
TZOFFSETTO:+0200
TZNAME:CEST
DTSTART:20190331T010000
END:DAYLIGHT
BEGIN:STANDARD
TZOFFSETFROM:+0200
TZOFFSETTO:+0100
TZNAME:CET
DTSTART:20191027T010000
END:STANDARD
BEGIN:DAYLIGHT
TZOFFSETFROM:+0100
TZOFFSETTO:+0200
TZNAME:CEST
DTSTART:20200329T010000
END:DAYLIGHT
BEGIN:STANDARD
TZOFFSETFROM:+0200
TZOFFSETTO:+0100
TZNAME:CET
DTSTART:20201025T010000
END:STANDARD
BEGIN:DAYLIGHT
TZOFFSETFROM:+0100
TZOFFSETTO:+0200
TZNAME:CEST
DTSTART:20210328T010000
END:DAYLIGHT
BEGIN:STANDARD
TZOFFSETFROM:+0200
TZOFFSETTO:+0100
TZNAME:CET
DTSTART:20211031T010000
END:STANDARD
END:VTIMEZONE
BEGIN:VEVENT
DTSTART;VALUE=DATE:20200125
DTEND;VALUE=DATE:20200126
DTSTAMP:20260424T234304
CREATED:20200104T140313Z
LAST-MODIFIED:20200108T211659Z
UID:3995-1579910400-1579996799@folkendiois.fr
SUMMARY:Bal folk avec Escale ordinaire - aux Rencontres de Die
DESCRIPTION:Samedi 25 janvier à 21h\, salle polyvalente de Die\nDans le cadre des 18e Rencontres de Die et de la Biovallée\, venez danser au son d’Escale Ordinaire…\nUne expérience sensorielle\, une alchimie singulière au service de la danse. Les mélodies espiègles et lyriques vous entraînent dans l’ivresse du bal\, les cordes du violon et du violoncelle virevoltent\, frottent\, se cognent\, l’accordéon rode ses notes de velours…\n \nRetrouvez tout le programme des Rencontres sur leur site internet !
URL:https://folkendiois.fr/event/bal-avec-escale-ordinaire-aux-rencontres-de-die/
LOCATION:Salle polyvalente\, Boulevard du Ballon\, Die\, 26150\, France
ORGANIZER;CN="Ecologie au Quotidien":MAILTO:ecologieauquotidien.die@gmail.com
END:VEVENT
END:VCALENDAR