BEGIN:VCALENDAR
VERSION:2.0
PRODID:-//Folk en Diois - ECPv6.15.20//NONSGML v1.0//EN
CALSCALE:GREGORIAN
METHOD:PUBLISH
X-ORIGINAL-URL:https://folkendiois.fr
X-WR-CALDESC:Évènements pour Folk en Diois
REFRESH-INTERVAL;VALUE=DURATION:PT1H
X-Robots-Tag:noindex
X-PUBLISHED-TTL:PT1H
BEGIN:VTIMEZONE
TZID:Europe/Paris
BEGIN:DAYLIGHT
TZOFFSETFROM:+0100
TZOFFSETTO:+0200
TZNAME:CEST
DTSTART:20190331T010000
END:DAYLIGHT
BEGIN:STANDARD
TZOFFSETFROM:+0200
TZOFFSETTO:+0100
TZNAME:CET
DTSTART:20191027T010000
END:STANDARD
BEGIN:DAYLIGHT
TZOFFSETFROM:+0100
TZOFFSETTO:+0200
TZNAME:CEST
DTSTART:20200329T010000
END:DAYLIGHT
BEGIN:STANDARD
TZOFFSETFROM:+0200
TZOFFSETTO:+0100
TZNAME:CET
DTSTART:20201025T010000
END:STANDARD
BEGIN:DAYLIGHT
TZOFFSETFROM:+0100
TZOFFSETTO:+0200
TZNAME:CEST
DTSTART:20210328T010000
END:DAYLIGHT
BEGIN:STANDARD
TZOFFSETFROM:+0200
TZOFFSETTO:+0100
TZNAME:CET
DTSTART:20211031T010000
END:STANDARD
END:VTIMEZONE
BEGIN:VEVENT
DTSTART;VALUE=DATE:20200201
DTEND;VALUE=DATE:20200202
DTSTAMP:20260424T221410
CREATED:20200104T140700Z
LAST-MODIFIED:20200108T211824Z
UID:3999-1580515200-1580601599@folkendiois.fr
SUMMARY:Bal folk avec Tralala Lovers - aux Rencontres de Die
DESCRIPTION:Samedi 1er février à 21h\, salle polyvalente de Die\nDans le cadre des 18e Rencontres de Die et de la Biovallée\, venez danser au son des Tralala Lovers !\nLes Tralala Lovers partagent sans retenue les musiques à danser qui leur donnent tant de plaisir : Valses\, scottish\, cercles circassiens\, mazurkas langoureuses\, polkas endiablées…\nDiego Meymarian (chant\, violon\, banjo\, guimbarde) et Vincent Gaffet (chant\, accordéon\, percussions)\n \nRetrouvez tout le programme des Rencontres sur leur site internet !
URL:https://folkendiois.fr/event/bal-folk-avec-tralala-lovers-aux-rencontres-de-die/
LOCATION:Salle polyvalente\, Boulevard du Ballon\, Die\, 26150\, France
ORGANIZER;CN="Ecologie au Quotidien":MAILTO:ecologieauquotidien.die@gmail.com
END:VEVENT
END:VCALENDAR