BEGIN:VCALENDAR
VERSION:2.0
PRODID:-//Folk en Diois - ECPv6.15.20//NONSGML v1.0//EN
CALSCALE:GREGORIAN
METHOD:PUBLISH
X-ORIGINAL-URL:https://folkendiois.fr
X-WR-CALDESC:Évènements pour Folk en Diois
REFRESH-INTERVAL;VALUE=DURATION:PT1H
X-Robots-Tag:noindex
X-PUBLISHED-TTL:PT1H
BEGIN:VTIMEZONE
TZID:Europe/Paris
BEGIN:DAYLIGHT
TZOFFSETFROM:+0100
TZOFFSETTO:+0200
TZNAME:CEST
DTSTART:20190331T010000
END:DAYLIGHT
BEGIN:STANDARD
TZOFFSETFROM:+0200
TZOFFSETTO:+0100
TZNAME:CET
DTSTART:20191027T010000
END:STANDARD
BEGIN:DAYLIGHT
TZOFFSETFROM:+0100
TZOFFSETTO:+0200
TZNAME:CEST
DTSTART:20200329T010000
END:DAYLIGHT
BEGIN:STANDARD
TZOFFSETFROM:+0200
TZOFFSETTO:+0100
TZNAME:CET
DTSTART:20201025T010000
END:STANDARD
BEGIN:DAYLIGHT
TZOFFSETFROM:+0100
TZOFFSETTO:+0200
TZNAME:CEST
DTSTART:20210328T010000
END:DAYLIGHT
BEGIN:STANDARD
TZOFFSETFROM:+0200
TZOFFSETTO:+0100
TZNAME:CET
DTSTART:20211031T010000
END:STANDARD
END:VTIMEZONE
BEGIN:VEVENT
DTSTART;VALUE=DATE:20200520
DTEND;VALUE=DATE:20200524
DTSTAMP:20260425T045340
CREATED:20200104T150556Z
LAST-MODIFIED:20200416T111548Z
UID:4026-1589932800-1590278399@folkendiois.fr
SUMMARY:11ème Nuit du Folk Dioise !  (bah non au fait\, désolé les copains)
DESCRIPTION:La Nuit du Folk Dioise 2020 se prépare… \nRdv du 20 au 23 mai à Châtillon en Diois !\n \nChères danseuses\, chers danseurs\,\nmusiciens\, musiciennes\, amoureux\, amoureuses en tous genre\,\nToute l’équipe de la nuit du folk a l’honneur de vous annoncer que… nous nageons dans les marais dansants…\nMais comme on aime bien croire aux miracles\, on se donne jusqu’au 15 avril pour officialiser une décision.\nA très bientôt !\n 
URL:https://folkendiois.fr/event/la-nuit-du-folk-dioise-11e-edition/
LOCATION:Salle Kubnick\, Route du Bez\, Châtillon-en-Diois\, 26410
ORGANIZER;CN="Folk en Diois":MAILTO:lanuitdufolkdioise@gmail.com
END:VEVENT
END:VCALENDAR