BEGIN:VCALENDAR
VERSION:2.0
PRODID:-//Folk en Diois - ECPv6.15.18//NONSGML v1.0//EN
CALSCALE:GREGORIAN
METHOD:PUBLISH
X-ORIGINAL-URL:https://folkendiois.fr
X-WR-CALDESC:Évènements pour Folk en Diois
REFRESH-INTERVAL;VALUE=DURATION:PT1H
X-Robots-Tag:noindex
X-PUBLISHED-TTL:PT1H
BEGIN:VTIMEZONE
TZID:Europe/Paris
BEGIN:DAYLIGHT
TZOFFSETFROM:+0100
TZOFFSETTO:+0200
TZNAME:CEST
DTSTART:20190331T010000
END:DAYLIGHT
BEGIN:STANDARD
TZOFFSETFROM:+0200
TZOFFSETTO:+0100
TZNAME:CET
DTSTART:20191027T010000
END:STANDARD
BEGIN:DAYLIGHT
TZOFFSETFROM:+0100
TZOFFSETTO:+0200
TZNAME:CEST
DTSTART:20200329T010000
END:DAYLIGHT
BEGIN:STANDARD
TZOFFSETFROM:+0200
TZOFFSETTO:+0100
TZNAME:CET
DTSTART:20201025T010000
END:STANDARD
BEGIN:DAYLIGHT
TZOFFSETFROM:+0100
TZOFFSETTO:+0200
TZNAME:CEST
DTSTART:20210328T010000
END:DAYLIGHT
BEGIN:STANDARD
TZOFFSETFROM:+0200
TZOFFSETTO:+0100
TZNAME:CET
DTSTART:20211031T010000
END:STANDARD
END:VTIMEZONE
BEGIN:VEVENT
DTSTART;VALUE=DATE:20200718
DTEND;VALUE=DATE:20200720
DTSTAMP:20260420T171752
CREATED:20200625T144650Z
LAST-MODIFIED:20200629T222525Z
UID:4211-1595030400-1595203199@folkendiois.fr
SUMMARY:Stage de Chants à Danser en pleine nature (Beaumont-en-Diois)
DESCRIPTION:Rendez-vous les 18 et 19 juillet dans le Haut-Diois\, avec Marion Blanchard-Perché\, musicienne des Conteuses de Pas…\nSite internet du groupe\n \nLieu du stage : Beaumont-en-Diois (+ de précisions à l’inscription)\, avec possibilité d’hébergement (tente ou dortoir) et cuisine autonome sur place !\n\nTarif : 50€/personne (frais pédagogiques) + 5€ (utilisation du lieu & hébergement).\nHoraires : 9h30-12h / 14h-17h\, samedi & dimanche \nAttention\, places limitées ! (12 participants max) \nPour plus d’infos et s’inscrire : contactez Stefania au 06 44 05 64 04.
URL:https://folkendiois.fr/event/stage-de-chants-a-danser-2/
LOCATION:Beaumont-en-Diois\, Beaumont-en-Diois\, 26310
END:VEVENT
END:VCALENDAR