BEGIN:VCALENDAR
VERSION:2.0
PRODID:-//Folk en Diois - ECPv6.15.18//NONSGML v1.0//EN
CALSCALE:GREGORIAN
METHOD:PUBLISH
X-WR-CALNAME:Folk en Diois
X-ORIGINAL-URL:https://folkendiois.fr
X-WR-CALDESC:Évènements pour Folk en Diois
REFRESH-INTERVAL;VALUE=DURATION:PT1H
X-Robots-Tag:noindex
X-PUBLISHED-TTL:PT1H
BEGIN:VTIMEZONE
TZID:Europe/Paris
BEGIN:DAYLIGHT
TZOFFSETFROM:+0100
TZOFFSETTO:+0200
TZNAME:CEST
DTSTART:20250330T010000
END:DAYLIGHT
BEGIN:STANDARD
TZOFFSETFROM:+0200
TZOFFSETTO:+0100
TZNAME:CET
DTSTART:20251026T010000
END:STANDARD
BEGIN:DAYLIGHT
TZOFFSETFROM:+0100
TZOFFSETTO:+0200
TZNAME:CEST
DTSTART:20260329T010000
END:DAYLIGHT
BEGIN:STANDARD
TZOFFSETFROM:+0200
TZOFFSETTO:+0100
TZNAME:CET
DTSTART:20261025T010000
END:STANDARD
BEGIN:DAYLIGHT
TZOFFSETFROM:+0100
TZOFFSETTO:+0200
TZNAME:CEST
DTSTART:20270328T010000
END:DAYLIGHT
BEGIN:STANDARD
TZOFFSETFROM:+0200
TZOFFSETTO:+0100
TZNAME:CET
DTSTART:20271031T010000
END:STANDARD
END:VTIMEZONE
BEGIN:VEVENT
DTSTART;TZID=Europe/Paris:20260426T180000
DTEND;TZID=Europe/Paris:20260426T220000
DTSTAMP:20260420T051030
CREATED:20260329T152011Z
LAST-MODIFIED:20260329T152454Z
UID:6089-1777226400-1777240800@folkendiois.fr
SUMMARY:Atelier & Mini Bal 26 Avril 2026 - 18~22h
DESCRIPTION:Pour découvrir ou redécouvrir des danses moins fréquentes dans le Diois que certaines autres – et vous permettre d’assurer pour le festival des Nuits du Folk 🙂 – on a décidé de faire un dernier atelier pour cette année scolaire !  \nVenez vous laisser entraÎner dans les danses Branle d’Ossau\, les 7 Sauts ou encore le Rondeau en Couple avec les conseils avisés d’Andréas\, et l’accordéon de Tao pour le plaisir de vos oreilles ! \nEt pour le plaisir des ventres\, vos douceurs salées\, sucrées\, acidulées\, vitaminées à partager 🙂
URL:https://folkendiois.fr/event/atelier-mini-bal-26-avril-2026-1822-h/
LOCATION:ESCDD – Salle communautaire\, Die\, 26150
ORGANIZER;CN="Folk en Diois":MAILTO:lanuitdufolkdioise@gmail.com
END:VEVENT
BEGIN:VEVENT
DTSTART;VALUE=DATE:20260513
DTEND;VALUE=DATE:20260517
DTSTAMP:20260420T051030
CREATED:20250205T100249Z
LAST-MODIFIED:20260329T152741Z
UID:4782-1778630400-1778975999@folkendiois.fr
SUMMARY:Les Nuits du Folk Dioises du 13 au 16 Mai 2026
DESCRIPTION:À Châtillon en Diois\nDu mercredi 13 au samedi 16 Mai 2026\n12 groupes\, des ateliers danse\, musique et chant. \nFidèle à notre réputation\, on vous concocte des Nuits Du Folk Dioises 2026 avec le plus grand soin ! 🙂 \nDu 13 au 16 mai\, venez libérer vos jambes en laissant votre cœur vagabonder dans le sillage des musiques trad\, folk et néo de notre prog! \n4 soirées\,\n3 sets par soir\,\net des bœufs si vous amenez vos instruments!\, \nDes ateliers et stages pour tous les goûts\,\nLe bal du marché\, \nUne déco toujours au top\, un bar péti-souriant\, du Miam Végé de qualité…\nBref\, un accueil Made In FOLKENDIOIS! \nPour que vous soyez heureux de danser les pieds sur l’eau (ou presque) dans le doux écrin des montagnes Dioises et la tête sous le ciel étoilé de mai\, on est déjà à fond dans l’orga du cocktail savoureux! \nSi jamais… \nRangement le 17 Mai\, bénévoles bienvenus\, on fait la fête jusqu’au bout ! \nRetrouvez toutes les infos : 14° Nuits du Folk Dioises 2026 \nBises Folkendioises!
URL:https://folkendiois.fr/event/les-nuits-du-folk/
END:VEVENT
END:VCALENDAR