BEGIN:VCALENDAR
VERSION:2.0
PRODID:-//Folk en Diois - ECPv6.15.20//NONSGML v1.0//EN
CALSCALE:GREGORIAN
METHOD:PUBLISH
X-ORIGINAL-URL:https://folkendiois.fr
X-WR-CALDESC:Évènements pour Folk en Diois
REFRESH-INTERVAL;VALUE=DURATION:PT1H
X-Robots-Tag:noindex
X-PUBLISHED-TTL:PT1H
BEGIN:VTIMEZONE
TZID:Europe/Paris
BEGIN:DAYLIGHT
TZOFFSETFROM:+0100
TZOFFSETTO:+0200
TZNAME:CEST
DTSTART:20170326T010000
END:DAYLIGHT
BEGIN:STANDARD
TZOFFSETFROM:+0200
TZOFFSETTO:+0100
TZNAME:CET
DTSTART:20171029T010000
END:STANDARD
BEGIN:DAYLIGHT
TZOFFSETFROM:+0100
TZOFFSETTO:+0200
TZNAME:CEST
DTSTART:20180325T010000
END:DAYLIGHT
BEGIN:STANDARD
TZOFFSETFROM:+0200
TZOFFSETTO:+0100
TZNAME:CET
DTSTART:20181028T010000
END:STANDARD
BEGIN:DAYLIGHT
TZOFFSETFROM:+0100
TZOFFSETTO:+0200
TZNAME:CEST
DTSTART:20190331T010000
END:DAYLIGHT
BEGIN:STANDARD
TZOFFSETFROM:+0200
TZOFFSETTO:+0100
TZNAME:CET
DTSTART:20191027T010000
END:STANDARD
END:VTIMEZONE
BEGIN:VEVENT
DTSTART;VALUE=DATE:20180625
DTEND;VALUE=DATE:20180626
DTSTAMP:20260424T120850
CREATED:20180618T212315Z
LAST-MODIFIED:20180618T212315Z
UID:3026-1529884800-1529971199@folkendiois.fr
SUMMARY:Atelier danses folk - Mini-bal
DESCRIPTION: \n\n\n\n\n\n\nRendez-vous à 20h45 à la salle communautaire de l’ESCDD\, pour le dernier de la saison !\n\nPour plus d’infos\, consultez la page des ateliers mini-bal.
URL:https://folkendiois.fr/event/atelier-danses-folk-mini-bal-7/
LOCATION:ESCDD – Salle communautaire\, Die\, 26150
ORGANIZER;CN="Folk en Diois":MAILTO:lanuitdufolkdioise@gmail.com
END:VEVENT
END:VCALENDAR