BEGIN:VCALENDAR
VERSION:2.0
PRODID:-//Folk en Diois - ECPv6.15.20//NONSGML v1.0//EN
CALSCALE:GREGORIAN
METHOD:PUBLISH
X-WR-CALNAME:Folk en Diois
X-ORIGINAL-URL:https://folkendiois.fr
X-WR-CALDESC:Évènements pour Folk en Diois
REFRESH-INTERVAL;VALUE=DURATION:PT1H
X-Robots-Tag:noindex
X-PUBLISHED-TTL:PT1H
BEGIN:VTIMEZONE
TZID:Europe/Paris
BEGIN:DAYLIGHT
TZOFFSETFROM:+0100
TZOFFSETTO:+0200
TZNAME:CEST
DTSTART:20180325T010000
END:DAYLIGHT
BEGIN:STANDARD
TZOFFSETFROM:+0200
TZOFFSETTO:+0100
TZNAME:CET
DTSTART:20181028T010000
END:STANDARD
BEGIN:DAYLIGHT
TZOFFSETFROM:+0100
TZOFFSETTO:+0200
TZNAME:CEST
DTSTART:20190331T010000
END:DAYLIGHT
BEGIN:STANDARD
TZOFFSETFROM:+0200
TZOFFSETTO:+0100
TZNAME:CET
DTSTART:20191027T010000
END:STANDARD
BEGIN:DAYLIGHT
TZOFFSETFROM:+0100
TZOFFSETTO:+0200
TZNAME:CEST
DTSTART:20200329T010000
END:DAYLIGHT
BEGIN:STANDARD
TZOFFSETFROM:+0200
TZOFFSETTO:+0100
TZNAME:CET
DTSTART:20201025T010000
END:STANDARD
END:VTIMEZONE
BEGIN:VEVENT
DTSTART;VALUE=DATE:20190106
DTEND;VALUE=DATE:20190107
DTSTAMP:20260424T030024
CREATED:20180923T141048Z
LAST-MODIFIED:20180923T141048Z
UID:3105-1546732800-1546819199@folkendiois.fr
SUMMARY:Bal des Dimanches Glauques - Eurre
DESCRIPTION:« Froid dehors\, chaud dedans »\nLes Dimanches Glauques sont des après-midis conviviaux de bal avec une scène ouverte\, 3 à 4 rendez-vous dans l’hiver et entrée gratuite pour tous. Venez en famille\, entre amis\, seul(e) ou accompagné(e)\, avec votre bonne humeur et vos souliers pour danser ou votre instrument pour nous faire valser ! \nDe 15h à 19h à la salle des fêtes de Eurre\, buvette sur place.
URL:https://folkendiois.fr/event/bal-dimanches-glauques-eurre-2/
LOCATION:Salle des Fêtes de Eurre\, Eurre\, 26400\, France
ORGANIZER;CN="Tradivarius":MAILTO:tradivarius.eurre@gmail.com 
END:VEVENT
BEGIN:VEVENT
DTSTART;VALUE=DATE:20190114
DTEND;VALUE=DATE:20190115
DTSTAMP:20260424T030024
CREATED:20180923T142116Z
LAST-MODIFIED:20180923T142704Z
UID:3111-1547424000-1547510399@folkendiois.fr
SUMMARY:Atelier Danses Folk - Mini-bal
DESCRIPTION:Rendez-vous à 20h30 à la salle communautaire de l’ESCDD.\n\nPour plus d’infos\, consultez la page des ateliers mini-bal.
URL:https://folkendiois.fr/event/atelier-danses-folk-mini-bal-11/
LOCATION:ESCDD – Salle communautaire\, Die\, 26150
ORGANIZER;CN="Folk en Diois":MAILTO:lanuitdufolkdioise@gmail.com
END:VEVENT
BEGIN:VEVENT
DTSTART;VALUE=DATE:20190121
DTEND;VALUE=DATE:20190122
DTSTAMP:20260424T030024
CREATED:20190107T190500Z
LAST-MODIFIED:20190113T195723Z
UID:3307-1548028800-1548115199@folkendiois.fr
SUMMARY:Atelier Danses Folk mini-bal avec Astriam - Luc-en-Diois
DESCRIPTION:Animé par le groupe Astriam\nRendez-vous à la salle des Voconces à 18h30 !\nInitiation au kost ar c’hoat\, rondeau en chaîne\, bourrée  2 temps en cercle et gavotte de l’aven – suivi d’un mini-bal avec Astriam et Chloé !
URL:https://folkendiois.fr/event/atelier-mini-bal-astriam-luc-diois/
LOCATION:Salle des Voconces\, Luc-en-Diois\, 26310\, France
ORGANIZER;CN="Folk en Diois":MAILTO:lanuitdufolkdioise@gmail.com
END:VEVENT
BEGIN:VEVENT
DTSTART;VALUE=DATE:20190124
DTEND;VALUE=DATE:20190125
DTSTAMP:20260424T030024
CREATED:20190113T154910Z
LAST-MODIFIED:20190113T154910Z
UID:3317-1548288000-1548374399@folkendiois.fr
SUMMARY:Bal folk à Andarta - Avec Astriam
DESCRIPTION:Jeudi 24 janvier à 20h30\nRendez-vous à Andarta\, à Die\n\n\n\nAstriam\nAccordéon\, guitare et percussions
URL:https://folkendiois.fr/event/bal-folk-a-andarta-astriam-6/
LOCATION:Café Andarta\, 57 rue Emile Laurens\, DIE\, 26150\, France
END:VEVENT
BEGIN:VEVENT
DTSTART;VALUE=DATE:20190126
DTEND;VALUE=DATE:20190127
DTSTAMP:20260424T030024
CREATED:20190113T155548Z
LAST-MODIFIED:20190113T155858Z
UID:3319-1548460800-1548547199@folkendiois.fr
SUMMARY:Bal folk aux Rencontres de l'écologie - Avec Faucon'Folk
DESCRIPTION:à 21h\, salle polyvalente de Die\nBal Folk avec les « Faucon’Folk »\nMusiques traditionnelles et contemporaines : de France et d’ailleurs…Avec ces drôles d’oiseaux mi-grateurs\, mi-chanteurs\, faut qu’on rie\, faut qu’on danse !\nRetrouvez tout le programme des Rencontres de l’écologie ici !
URL:https://folkendiois.fr/event/bal-folk-aux-rencontres-de-lecologie-fauconfolk/
LOCATION:Salle polyvalente\, Boulevard du Ballon\, Die\, 26150\, France
ORGANIZER;CN="Ecologie au Quotidien":MAILTO:ecologieauquotidien.die@gmail.com
END:VEVENT
END:VCALENDAR