BEGIN:VCALENDAR
VERSION:2.0
PRODID:-//Folk en Diois - ECPv6.15.20//NONSGML v1.0//EN
CALSCALE:GREGORIAN
METHOD:PUBLISH
X-ORIGINAL-URL:https://folkendiois.fr
X-WR-CALDESC:Évènements pour Folk en Diois
REFRESH-INTERVAL;VALUE=DURATION:PT1H
X-Robots-Tag:noindex
X-PUBLISHED-TTL:PT1H
BEGIN:VTIMEZONE
TZID:Europe/Paris
BEGIN:DAYLIGHT
TZOFFSETFROM:+0100
TZOFFSETTO:+0200
TZNAME:CEST
DTSTART:20180325T010000
END:DAYLIGHT
BEGIN:STANDARD
TZOFFSETFROM:+0200
TZOFFSETTO:+0100
TZNAME:CET
DTSTART:20181028T010000
END:STANDARD
BEGIN:DAYLIGHT
TZOFFSETFROM:+0100
TZOFFSETTO:+0200
TZNAME:CEST
DTSTART:20190331T010000
END:DAYLIGHT
BEGIN:STANDARD
TZOFFSETFROM:+0200
TZOFFSETTO:+0100
TZNAME:CET
DTSTART:20191027T010000
END:STANDARD
BEGIN:DAYLIGHT
TZOFFSETFROM:+0100
TZOFFSETTO:+0200
TZNAME:CEST
DTSTART:20200329T010000
END:DAYLIGHT
BEGIN:STANDARD
TZOFFSETFROM:+0200
TZOFFSETTO:+0100
TZNAME:CET
DTSTART:20201025T010000
END:STANDARD
END:VTIMEZONE
BEGIN:VEVENT
DTSTART;VALUE=DATE:20190202
DTEND;VALUE=DATE:20190203
DTSTAMP:20260424T055508
CREATED:20190113T160108Z
LAST-MODIFIED:20190113T160124Z
UID:3325-1549065600-1549151999@folkendiois.fr
SUMMARY:Bal folk aux Rencontres de l'écologie - Avec Coriandre
DESCRIPTION:à 21h\, salle polyvalente de Die\nBal Folk avec Coriandre\, musique trad’actuelle occitane\nAdepte du Balèti Oc & folk\, Coriandre vous offre une musique mitonnée sur les bords de la Méditerranée\, pour faire voyager les oreilles et mettre des braises sous vos pieds. \nRetrouvez tout le programme des Rencontres de l’écologie ici !
URL:https://folkendiois.fr/event/bal-folk-aux-rencontres-de-lecologie/
LOCATION:Salle polyvalente\, Boulevard du Ballon\, Die\, 26150\, France
ORGANIZER;CN="Ecologie au Quotidien":MAILTO:ecologieauquotidien.die@gmail.com
END:VEVENT
BEGIN:VEVENT
DTSTART;VALUE=DATE:20190210
DTEND;VALUE=DATE:20190211
DTSTAMP:20260424T055508
CREATED:20180923T141200Z
LAST-MODIFIED:20180923T141200Z
UID:3107-1549756800-1549843199@folkendiois.fr
SUMMARY:Bal des Dimanches Glauques - Eurre
DESCRIPTION:« Froid dehors\, chaud dedans »\nLes Dimanches Glauques sont des après-midis conviviaux de bal avec une scène ouverte\, 3 à 4 rendez-vous dans l’hiver et entrée gratuite pour tous. Venez en famille\, entre amis\, seul(e) ou accompagné(e)\, avec votre bonne humeur et vos souliers pour danser ou votre instrument pour nous faire valser ! \nDe 15h à 19h à la salle des fêtes de Eurre\, buvette sur place.
URL:https://folkendiois.fr/event/bal-dimanches-glauques-eurre-3/
LOCATION:Salle des Fêtes de Eurre\, Eurre\, 26400\, France
ORGANIZER;CN="Tradivarius":MAILTO:tradivarius.eurre@gmail.com 
END:VEVENT
BEGIN:VEVENT
DTSTART;VALUE=DATE:20190211
DTEND;VALUE=DATE:20190212
DTSTAMP:20260424T055508
CREATED:20180923T142206Z
LAST-MODIFIED:20180923T142756Z
UID:3113-1549843200-1549929599@folkendiois.fr
SUMMARY:Atelier Danses Folk - Mini-bal
DESCRIPTION:Rendez-vous à 20h30 à la salle communautaire de l’ESCDD.\n\nPour plus d’infos\, consultez la page des ateliers mini-bal.
URL:https://folkendiois.fr/event/atelier-danses-folk-mini-bal-12/
LOCATION:ESCDD – Salle communautaire\, Die\, 26150
ORGANIZER;CN="Folk en Diois":MAILTO:lanuitdufolkdioise@gmail.com
END:VEVENT
BEGIN:VEVENT
DTSTART;VALUE=DATE:20190214
DTEND;VALUE=DATE:20190215
DTSTAMP:20260424T055508
CREATED:20190209T185451Z
LAST-MODIFIED:20190209T185518Z
UID:3354-1550102400-1550188799@folkendiois.fr
SUMMARY:Bal Folk à Andarta - Avec Astriam
DESCRIPTION:Jeudi 14 février à 20h30\nRendez-vous à Andarta\, à Die\n\n\n\nAstriam\nAccordéon\, guitare et percussions
URL:https://folkendiois.fr/event/bal-folk-a-andarta-astriam-7/
LOCATION:Café Andarta\, 57 rue Emile Laurens\, DIE\, 26150\, France
END:VEVENT
BEGIN:VEVENT
DTSTART;VALUE=DATE:20190218
DTEND;VALUE=DATE:20190219
DTSTAMP:20260424T055508
CREATED:20190207T202900Z
LAST-MODIFIED:20190207T202900Z
UID:3341-1550448000-1550534399@folkendiois.fr
SUMMARY:Atelier Danses Folk mini-bal - Luc-en-Diois
DESCRIPTION: \n\n\n\nAnimé par le groupe Astriam\nRendez-vous à la salle des Voconces à 18h30 !\nRévision des danses à la demande !\nSuivi d’un mini-bal avec Astriam
URL:https://folkendiois.fr/event/atelier-danses-folk-mini-bal-luc-diois/
LOCATION:Salle des Voconces\, Luc-en-Diois\, 26310\, France
ORGANIZER;CN="Folk en Diois":MAILTO:lanuitdufolkdioise@gmail.com
END:VEVENT
BEGIN:VEVENT
DTSTART;VALUE=DATE:20190221
DTEND;VALUE=DATE:20190222
DTSTAMP:20260424T055508
CREATED:20190113T190709Z
LAST-MODIFIED:20190113T190751Z
UID:3328-1550707200-1550793599@folkendiois.fr
SUMMARY:Bal folk à Andarta - Avec Chloé
DESCRIPTION:Jeudi 21 février\, à 21h\n  \nRendez-vous à Andarta\, à Die\n\n\n\n\nChloé\nBal à l’accordéon chromatique
URL:https://folkendiois.fr/event/bal-folk-a-andarta-chloe-8/
LOCATION:Café Andarta\, 57 rue Emile Laurens\, DIE\, 26150\, France
END:VEVENT
END:VCALENDAR