BEGIN:VCALENDAR
VERSION:2.0
PRODID:-//Folk en Diois - ECPv6.15.20//NONSGML v1.0//EN
CALSCALE:GREGORIAN
METHOD:PUBLISH
X-WR-CALNAME:Folk en Diois
X-ORIGINAL-URL:https://folkendiois.fr
X-WR-CALDESC:Évènements pour Folk en Diois
REFRESH-INTERVAL;VALUE=DURATION:PT1H
X-Robots-Tag:noindex
X-PUBLISHED-TTL:PT1H
BEGIN:VTIMEZONE
TZID:Europe/Paris
BEGIN:DAYLIGHT
TZOFFSETFROM:+0100
TZOFFSETTO:+0200
TZNAME:CEST
DTSTART:20180325T010000
END:DAYLIGHT
BEGIN:STANDARD
TZOFFSETFROM:+0200
TZOFFSETTO:+0100
TZNAME:CET
DTSTART:20181028T010000
END:STANDARD
BEGIN:DAYLIGHT
TZOFFSETFROM:+0100
TZOFFSETTO:+0200
TZNAME:CEST
DTSTART:20190331T010000
END:DAYLIGHT
BEGIN:STANDARD
TZOFFSETFROM:+0200
TZOFFSETTO:+0100
TZNAME:CET
DTSTART:20191027T010000
END:STANDARD
BEGIN:DAYLIGHT
TZOFFSETFROM:+0100
TZOFFSETTO:+0200
TZNAME:CEST
DTSTART:20200329T010000
END:DAYLIGHT
BEGIN:STANDARD
TZOFFSETFROM:+0200
TZOFFSETTO:+0100
TZNAME:CET
DTSTART:20201025T010000
END:STANDARD
END:VTIMEZONE
BEGIN:VEVENT
DTSTART;VALUE=DATE:20190503
DTEND;VALUE=DATE:20190504
DTSTAMP:20260424T085203
CREATED:20190428T143639Z
LAST-MODIFIED:20190428T143802Z
UID:3463-1556841600-1556927999@folkendiois.fr
SUMMARY:Soirée Forro à Die
DESCRIPTION:Vendredi 3 mai à la griotte ça va guincher Brésil !\n « ZE MATUTO FORRO ORCHESTRA » & « RODA VIVA »  \nfont le baloche pour le plus grand plaisir  de vos hanches et de vos oreilles.  \nA partir de 18h initiation au forro\, cette merveilleuse danse de couple du nordeste du Brésil avec Julie Kiss\,  \nA partir de 19h30 la joyeuse clique la tribu « Roda viva » vous embarque en chanson au son de la samba. \n21h ZE MATUTO vous invite a danser\, tenue légère  vivement conseillée ! \nPAF : 8€ / buvette et petite restauration sur place 
URL:https://folkendiois.fr/event/soiree-forro-a-die/
LOCATION:La Griotte\, Pont de la Griotte\, Die\, 26150
END:VEVENT
BEGIN:VEVENT
DTSTART;VALUE=DATE:20190506
DTEND;VALUE=DATE:20190507
DTSTAMP:20260424T085203
CREATED:20190407T220218Z
LAST-MODIFIED:20190407T220218Z
UID:3446-1557100800-1557187199@folkendiois.fr
SUMMARY:Atelier Danses Folk - Mini-Bal\, à Luc-en-Diois
DESCRIPTION:Thème à venir\nRdv à 18h30 à la salle des Voconces
URL:https://folkendiois.fr/event/atelier-danses-folk-mini-bal-a-luc-en-diois-2/
LOCATION:Salle des Voconces\, Luc-en-Diois\, 26310\, France
ORGANIZER;CN="Folk en Diois":MAILTO:lanuitdufolkdioise@gmail.com
END:VEVENT
BEGIN:VEVENT
DTSTART;VALUE=DATE:20190510
DTEND;VALUE=DATE:20190511
DTSTAMP:20260424T085203
CREATED:20190428T144952Z
LAST-MODIFIED:20190508T144744Z
UID:3474-1557446400-1557532799@folkendiois.fr
SUMMARY:Concert / Bal folk à l'Arbre à Miel\, avec Astriam
DESCRIPTION:Astriam\nAccordéon\, guitare et percussions
URL:https://folkendiois.fr/event/bal-folk-a-larbre-a-miel-avec-astriam/
LOCATION:L’Arbre à Miel\, Beaumont-en-Diois\, 26310\, France
END:VEVENT
BEGIN:VEVENT
DTSTART;VALUE=DATE:20190513
DTEND;VALUE=DATE:20190514
DTSTAMP:20260424T085203
CREATED:20180923T142448Z
LAST-MODIFIED:20180923T142448Z
UID:3119-1557705600-1557791999@folkendiois.fr
SUMMARY:Atelier Danses Folk - Mini-bal
DESCRIPTION:Rendez-vous à 20h30 à la salle communautaire de l’ESCDD.\n\nPour plus d’infos\, consultez la page des ateliers mini-bal.
URL:https://folkendiois.fr/event/atelier-danses-folk-mini-bal-15/
LOCATION:ESCDD – Salle communautaire\, Die\, 26150
ORGANIZER;CN="Folk en Diois":MAILTO:lanuitdufolkdioise@gmail.com
END:VEVENT
BEGIN:VEVENT
DTSTART;VALUE=DATE:20190516
DTEND;VALUE=DATE:20190517
DTSTAMP:20260424T085203
CREATED:20190428T144527Z
LAST-MODIFIED:20190428T144816Z
UID:3470-1557964800-1558051199@folkendiois.fr
SUMMARY:Bal folk à Andarta\, avec Astriam
DESCRIPTION:Jeudi 16 mai à 20h30\nRendez-vous à Andarta\, à Die\n\n\n\nAstriam\nAccordéon\, guitare et percussions
URL:https://folkendiois.fr/event/bal-folk-avec-astriam-a-andarta/
LOCATION:Café Andarta\, 57 rue Emile Laurens\, DIE\, 26150\, France
END:VEVENT
BEGIN:VEVENT
DTSTART;VALUE=DATE:20190523
DTEND;VALUE=DATE:20190524
DTSTAMP:20260424T085203
CREATED:20190406T131305Z
LAST-MODIFIED:20190513T215302Z
UID:3441-1558569600-1558655999@folkendiois.fr
SUMMARY:Bal folk à Andarta\, avec Bez Orchestra Trio
DESCRIPTION:Rendez-vous à Andarta\, à Die\n\n\n\n\navec Bez Orchestra Trio !\n\nBal à l’accordéon chromatique\, au banjo et à la basse\n\n 
URL:https://folkendiois.fr/event/bal-folk-a-andarta-avec-chloe-2/
LOCATION:Café Andarta\, 57 rue Emile Laurens\, DIE\, 26150\, France
END:VEVENT
BEGIN:VEVENT
DTSTART;VALUE=DATE:20190525
DTEND;VALUE=DATE:20190526
DTSTAMP:20260424T085203
CREATED:20190406T131208Z
LAST-MODIFIED:20190513T215053Z
UID:3439-1558742400-1558828799@folkendiois.fr
SUMMARY:Bal folk au Café des Voyageurs à Saint-Roman\, avec Chloé
DESCRIPTION:Rendez-vous au Café des Voyageurs\, à Saint-Roman\n\n\n\n\nChloé\nBal à l’accordéon chromatique
URL:https://folkendiois.fr/event/bal-folk-au-cafe-des-voyageurs-a-saint-roman-avec-chloe-2/
LOCATION:Café des Voyageurs\, Saint-Roman\, 26410\, France
END:VEVENT
BEGIN:VEVENT
DTSTART;VALUE=DATE:20190529
DTEND;VALUE=DATE:20190603
DTSTAMP:20260424T085203
CREATED:20190319T134659Z
LAST-MODIFIED:20190518T132912Z
UID:3415-1559088000-1559519999@folkendiois.fr
SUMMARY:Nuit du folk Dioise\, la 10ème !
DESCRIPTION:A Châtillon-en-Diois\, la 10ème édition de la Nuit du folk Dioise\, à l’ascension du 29 mai au 2 juin. 4 soirées de bal\, des stages\, et autres surprises vous attendent …! Toutes les infos sur le site du festival.
URL:https://folkendiois.fr/event/nuit-du-folk-dioise-la-10eme/
LOCATION:Salle Kubnick\, Route du Bez\, Châtillon-en-Diois\, 26410
ORGANIZER;CN="Folk en Diois":MAILTO:lanuitdufolkdioise@gmail.com
END:VEVENT
END:VCALENDAR