BEGIN:VCALENDAR
VERSION:2.0
PRODID:-//Folk en Diois - ECPv6.15.20//NONSGML v1.0//EN
CALSCALE:GREGORIAN
METHOD:PUBLISH
X-ORIGINAL-URL:https://folkendiois.fr
X-WR-CALDESC:Évènements pour Folk en Diois
REFRESH-INTERVAL;VALUE=DURATION:PT1H
X-Robots-Tag:noindex
X-PUBLISHED-TTL:PT1H
BEGIN:VTIMEZONE
TZID:Europe/Paris
BEGIN:DAYLIGHT
TZOFFSETFROM:+0100
TZOFFSETTO:+0200
TZNAME:CEST
DTSTART:20180325T010000
END:DAYLIGHT
BEGIN:STANDARD
TZOFFSETFROM:+0200
TZOFFSETTO:+0100
TZNAME:CET
DTSTART:20181028T010000
END:STANDARD
BEGIN:DAYLIGHT
TZOFFSETFROM:+0100
TZOFFSETTO:+0200
TZNAME:CEST
DTSTART:20190331T010000
END:DAYLIGHT
BEGIN:STANDARD
TZOFFSETFROM:+0200
TZOFFSETTO:+0100
TZNAME:CET
DTSTART:20191027T010000
END:STANDARD
BEGIN:DAYLIGHT
TZOFFSETFROM:+0100
TZOFFSETTO:+0200
TZNAME:CEST
DTSTART:20200329T010000
END:DAYLIGHT
BEGIN:STANDARD
TZOFFSETFROM:+0200
TZOFFSETTO:+0100
TZNAME:CET
DTSTART:20201025T010000
END:STANDARD
END:VTIMEZONE
BEGIN:VEVENT
DTSTART;TZID=Europe/Paris:20190801T180000
DTEND;TZID=Europe/Paris:20190801T220000
DTSTAMP:20260424T132952
CREATED:20190718T224553Z
LAST-MODIFIED:20190718T230220Z
UID:3535-1564682400-1564696800@folkendiois.fr
SUMMARY:Bal folk avec Unklooged trio - au P'tit Marché de Menglon
DESCRIPTION:Jeudi 1er août\, c’est Unklooged trio qui sera la vedette au P’tit Marché ! Viendez danser !!!
URL:https://folkendiois.fr/event/bal-folk-avec-unklooged-au-ptit-marche-de-menglon/
END:VEVENT
BEGIN:VEVENT
DTSTART;VALUE=DATE:20190802
DTEND;VALUE=DATE:20190803
DTSTAMP:20260424T132952
CREATED:20190730T164014Z
LAST-MODIFIED:20190730T165103Z
UID:3540-1564704000-1564790399@folkendiois.fr
SUMMARY:Concert-Bal / Impérial Orphéon et Garden Partie\, à Beaumont-en-Diois
DESCRIPTION:VOUS EST PROPOSE A BEAUMONT EN DIOIS  \nDeux univers musicaux qui font partis du collectif LA CURIEUSE ! \n  \nIMPERIAL ORPHEON et GARDEN PARTIE  \n\n\n\n\n\n\n\nIMPERIAL ORPHEON:\n\n\n\n\n \n\n\n\n\nUN BAL DEJANTE : qui vous embarque dans une danse au son d’une musique puissante et généreuse.\n\n https://www.la-curieuse.com/artiste/imperial-orpheon/\n \n\n\n\n \n\n\n\n \n\nGARDEN PARTIE:\n\n\n \n\n\nUN POWER TRIO : Rencontre insolite entre mots\, contrebasse et batterie.\n\n\n https://www.la-curieuse.com/artiste/garden-partie/\n\n 
URL:https://folkendiois.fr/event/concert-bal-imperial-orpheon-et-garden-partie-a-beaumont-en-diois/
LOCATION:Beaumont-en-Diois\, Beaumont-en-Diois\, 26310
END:VEVENT
BEGIN:VEVENT
DTSTART;VALUE=DATE:20190811
DTEND;VALUE=DATE:20190819
DTSTAMP:20260424T132952
CREATED:20190718T211454Z
LAST-MODIFIED:20190718T221017Z
UID:3512-1565481600-1566172799@folkendiois.fr
SUMMARY:Le Gros Bal du Vercors - à La-Chapelle-en-Vercors
DESCRIPTION:Il arrive bientôt… !!!\n \n>>>  Toutes les infos par ici !  <<<
URL:https://folkendiois.fr/event/le-gros-bal-du-vercors/
LOCATION:La-Chapelle-en-Vercors\, La-Chapelle-en-Vercors\, 26420
END:VEVENT
END:VCALENDAR