BEGIN:VCALENDAR
VERSION:2.0
PRODID:-//Folk en Diois - ECPv6.15.20//NONSGML v1.0//EN
CALSCALE:GREGORIAN
METHOD:PUBLISH
X-WR-CALNAME:Folk en Diois
X-ORIGINAL-URL:https://folkendiois.fr
X-WR-CALDESC:Évènements pour Folk en Diois
REFRESH-INTERVAL;VALUE=DURATION:PT1H
X-Robots-Tag:noindex
X-PUBLISHED-TTL:PT1H
BEGIN:VTIMEZONE
TZID:Europe/Paris
BEGIN:DAYLIGHT
TZOFFSETFROM:+0100
TZOFFSETTO:+0200
TZNAME:CEST
DTSTART:20180325T010000
END:DAYLIGHT
BEGIN:STANDARD
TZOFFSETFROM:+0200
TZOFFSETTO:+0100
TZNAME:CET
DTSTART:20181028T010000
END:STANDARD
BEGIN:DAYLIGHT
TZOFFSETFROM:+0100
TZOFFSETTO:+0200
TZNAME:CEST
DTSTART:20190331T010000
END:DAYLIGHT
BEGIN:STANDARD
TZOFFSETFROM:+0200
TZOFFSETTO:+0100
TZNAME:CET
DTSTART:20191027T010000
END:STANDARD
BEGIN:DAYLIGHT
TZOFFSETFROM:+0100
TZOFFSETTO:+0200
TZNAME:CEST
DTSTART:20200329T010000
END:DAYLIGHT
BEGIN:STANDARD
TZOFFSETFROM:+0200
TZOFFSETTO:+0100
TZNAME:CET
DTSTART:20201025T010000
END:STANDARD
END:VTIMEZONE
BEGIN:VEVENT
DTSTART;VALUE=DATE:20191101
DTEND;VALUE=DATE:20191103
DTSTAMP:20260424T180625
CREATED:20190718T214201Z
LAST-MODIFIED:20190917T220114Z
UID:3523-1572566400-1572739199@folkendiois.fr
SUMMARY:Le P'tit Festival Automnal - à Eurre
DESCRIPTION:Le P’tit Festival Automnal – 4e édition\nTradivarius & Folk en Diois s’associent à nouveau pour la 4e édition du P’tit Festival Automnal !\n\n\nToutes les infos sont sur la page dédiée !\n *  Concert au Temple le samedi à 17h\, avec le duo Jonsson Coudroy  *\n\n  \nBuvette et petite restauration sur place\nCôté pratique \nEurre se situe à 5km de Crest\, 30km de Valence. \nDouches et camping gratuits sur place\nAutres hébergements / tourisme : payscrestsaillans-tourisme.com
URL:https://folkendiois.fr/event/le-ptit-festival-automnal/
LOCATION:Salle des Fêtes de Eurre\, Eurre\, 26400\, France
ORGANIZER;CN="Tradivarius":MAILTO:tradivarius.eurre@gmail.com 
END:VEVENT
BEGIN:VEVENT
DTSTART;VALUE=DATE:20191114
DTEND;VALUE=DATE:20191115
DTSTAMP:20260424T180625
CREATED:20191111T205710Z
LAST-MODIFIED:20191111T205710Z
UID:3747-1573689600-1573775999@folkendiois.fr
SUMMARY:Bal folk avec Le Faune - Pol Abasq - Café Andarta\, à Die
DESCRIPTION:Jeudi 14 novembre à 21h\nRendez-vous à Andarta\, à Die\n\n\n\nLe Faune – Pol Abasq\nSolo d’accordéon\n\n\n\n \n> Découvrez son site internet <
URL:https://folkendiois.fr/event/bal-folk-avec-le-faune-pol-abasq-cafe-andarta-a-die/
LOCATION:Café Andarta\, 57 rue Emile Laurens\, DIE\, 26150\, France
END:VEVENT
BEGIN:VEVENT
DTSTART;VALUE=DATE:20191118
DTEND;VALUE=DATE:20191119
DTSTAMP:20260424T180625
CREATED:20190926T124910Z
LAST-MODIFIED:20190926T124910Z
UID:3613-1574035200-1574121599@folkendiois.fr
SUMMARY:Atelier danses folk/mini-bal
DESCRIPTION:Plus d’infos sur la page des ateliers
URL:https://folkendiois.fr/event/atelier-danses-folk-mini-bal-17/
LOCATION:ESCDD – Salle communautaire\, Die\, 26150
ORGANIZER;CN="Folk en Diois":MAILTO:lanuitdufolkdioise@gmail.com
END:VEVENT
BEGIN:VEVENT
DTSTART;VALUE=DATE:20191121
DTEND;VALUE=DATE:20191122
DTSTAMP:20260424T180625
CREATED:20191111T164111Z
LAST-MODIFIED:20191112T221725Z
UID:3734-1574294400-1574380799@folkendiois.fr
SUMMARY:Bal folk avec Astriam – Café Andarta\, à Die
DESCRIPTION:Jeudi 21 novembre à 20h40\nRendez-vous à Andarta\, à Die\n\n\n\nAstriam\nAccordéon\, guitare et percussions\n \n\n\n\nSite internet d’Astriam
URL:https://folkendiois.fr/event/bal-folk-avec-astriam-cafe-andarta-die-2/
LOCATION:Café Andarta\, 57 rue Emile Laurens\, DIE\, 26150\, France
END:VEVENT
BEGIN:VEVENT
DTSTART;VALUE=DATE:20191122
DTEND;VALUE=DATE:20191123
DTSTAMP:20260424T180625
CREATED:20191111T164618Z
LAST-MODIFIED:20191111T172438Z
UID:3736-1574380800-1574467199@folkendiois.fr
SUMMARY:Bal folk avec Chloé - Café des Voyageurs à Saint-Roman
DESCRIPTION:Rendez-vous au Café des Voyageurs\, à Saint-Roman\, à 21h\n\n\n\n\nChloé\nBal à l’accordéon chromatique
URL:https://folkendiois.fr/event/bal-folk-avec-chloe-au-cafe-des-voyageurs-a-saint-roman/
LOCATION:Café des Voyageurs\, Saint-Roman\, 26410\, France
END:VEVENT
BEGIN:VEVENT
DTSTART;VALUE=DATE:20191126
DTEND;VALUE=DATE:20191202
DTSTAMP:20260424T180625
CREATED:20191111T210514Z
LAST-MODIFIED:20191111T210821Z
UID:3752-1574726400-1575244799@folkendiois.fr
SUMMARY:Le Festicule - à Lus-la-Croix-Haute
DESCRIPTION:
URL:https://folkendiois.fr/event/le-festicule-a-lus-la-croix-haute/
LOCATION:Lus-La-Croix-Haute\, Lus-La-Croix-Haute
ORGANIZER;CN="La Compagnie des Tubercules":MAILTO:lacompagniedestubercules@gmail.com
END:VEVENT
END:VCALENDAR