BEGIN:VCALENDAR
VERSION:2.0
PRODID:-//Folk en Diois - ECPv6.15.20//NONSGML v1.0//EN
CALSCALE:GREGORIAN
METHOD:PUBLISH
X-ORIGINAL-URL:https://folkendiois.fr
X-WR-CALDESC:Évènements pour Folk en Diois
REFRESH-INTERVAL;VALUE=DURATION:PT1H
X-Robots-Tag:noindex
X-PUBLISHED-TTL:PT1H
BEGIN:VTIMEZONE
TZID:Europe/Paris
BEGIN:DAYLIGHT
TZOFFSETFROM:+0100
TZOFFSETTO:+0200
TZNAME:CEST
DTSTART:20180325T010000
END:DAYLIGHT
BEGIN:STANDARD
TZOFFSETFROM:+0200
TZOFFSETTO:+0100
TZNAME:CET
DTSTART:20181028T010000
END:STANDARD
BEGIN:DAYLIGHT
TZOFFSETFROM:+0100
TZOFFSETTO:+0200
TZNAME:CEST
DTSTART:20190331T010000
END:DAYLIGHT
BEGIN:STANDARD
TZOFFSETFROM:+0200
TZOFFSETTO:+0100
TZNAME:CET
DTSTART:20191027T010000
END:STANDARD
BEGIN:DAYLIGHT
TZOFFSETFROM:+0100
TZOFFSETTO:+0200
TZNAME:CEST
DTSTART:20200329T010000
END:DAYLIGHT
BEGIN:STANDARD
TZOFFSETFROM:+0200
TZOFFSETTO:+0100
TZNAME:CET
DTSTART:20201025T010000
END:STANDARD
END:VTIMEZONE
BEGIN:VEVENT
DTSTART;VALUE=DATE:20191126
DTEND;VALUE=DATE:20191202
DTSTAMP:20260424T210658
CREATED:20191111T210514Z
LAST-MODIFIED:20191111T210821Z
UID:3752-1574726400-1575244799@folkendiois.fr
SUMMARY:Le Festicule - à Lus-la-Croix-Haute
DESCRIPTION:
URL:https://folkendiois.fr/event/le-festicule-a-lus-la-croix-haute/
LOCATION:Lus-La-Croix-Haute\, Lus-La-Croix-Haute
ORGANIZER;CN="La Compagnie des Tubercules":MAILTO:lacompagniedestubercules@gmail.com
END:VEVENT
BEGIN:VEVENT
DTSTART;VALUE=DATE:20191201
DTEND;VALUE=DATE:20191202
DTSTAMP:20260424T210658
CREATED:20191111T211104Z
LAST-MODIFIED:20191111T211522Z
UID:3755-1575158400-1575244799@folkendiois.fr
SUMMARY:Bal des Dimanches Glauques - à Eurre
DESCRIPTION:« Froid dehors\, chaud dedans »\nLes Dimanches Glauques sont des après-midis conviviaux de bal avec une scène ouverte\, 3 à 4 rendez-vous dans l’hiver et entrée gratuite pour tous. Venez en famille\, entre amis\, seul(e) ou accompagné(e)\, avec votre bonne humeur et vos souliers pour danser ou votre instrument pour nous faire valser !\nDe 15h à 19h à la salle des fêtes de Eurre\, buvette sur place.
URL:https://folkendiois.fr/event/bal-des-dimanches-glauques-a-eurre/
LOCATION:Salle des Fêtes de Eurre\, Eurre\, 26400\, France
ORGANIZER;CN="Tradivarius":MAILTO:tradivarius.eurre@gmail.com 
END:VEVENT
BEGIN:VEVENT
DTSTART;VALUE=DATE:20191212
DTEND;VALUE=DATE:20191213
DTSTAMP:20260424T210658
CREATED:20191111T172811Z
LAST-MODIFIED:20191210T100401Z
UID:3745-1576108800-1576195199@folkendiois.fr
SUMMARY:Bal folk avec Chloé – Café Andarta\, à Die
DESCRIPTION:Rendez-vous à Andarta\, à 21h\n\n\n\n\nChloé\nBal à l’accordéon chromatique
URL:https://folkendiois.fr/event/bal-folk-avec-chloe-cafe-andarta-die/
LOCATION:Café Andarta\, 57 rue Emile Laurens\, DIE\, 26150\, France
END:VEVENT
BEGIN:VEVENT
DTSTART;VALUE=DATE:20191215
DTEND;VALUE=DATE:20191216
DTSTAMP:20260424T210658
CREATED:20191210T090759Z
LAST-MODIFIED:20191210T100329Z
UID:3955-1576368000-1576454399@folkendiois.fr
SUMMARY:Bal folk avec Astriam - à Luc-en-Diois
DESCRIPTION:Dans le cadre du repas de fin d’année organisé par la commune de Luc-en-Diois\, Bal Folk avec Astriam\, dimanche 15 décembre à 14h à la salle des Voconces.\nPour le repas\, la réservation est recommandée en vous présentant à la mairie ou à laisser un message dans la boite aux lettres de la mairie ou écrire à fetedenoel@orange.fr. Le repas débute à midi. vous pouvez venir sans réservation à partir de 14h pour participer au bal. \n  \nVenez vous dégourdir les jambes ou juste profiter de la musique !  \nValses\, scottishs\, \, rondeaux\, mazurkas\, chappeloises… danses de couple et de groupes\, que vous pouvez apprendre sur le moment\, pour vous laisser entrainer dans l’ambiance festive des bals trad et néo-trad ! \nBienvenus à tous\, petits et grands.  \n \nAstriam vous emporte dans la danse au son des soufflets\, de la guitare et des percussions pour un bal tout en finesse et en énergie… \nLaissez vous porter par des rythmiques et des mélodies d’ici et d’ailleurs dans un voyage dansant qui ne laisse pas indifférent. \n\n 
URL:https://folkendiois.fr/event/bal-folk-avec-astriam-a-luc-en-diois/
LOCATION:Salle des Voconces\, Luc-en-Diois\, 26310\, France
ORGANIZER;CN="Association La Manufacture":MAILTO:lamanufacture26@gmail.com
END:VEVENT
BEGIN:VEVENT
DTSTART;VALUE=DATE:20191216
DTEND;VALUE=DATE:20191217
DTSTAMP:20260424T210658
CREATED:20190926T125010Z
LAST-MODIFIED:20191210T100445Z
UID:3615-1576454400-1576540799@folkendiois.fr
SUMMARY:Atelier danses folk/mini-bal
DESCRIPTION:Plus d’infos sur la page des ateliers
URL:https://folkendiois.fr/event/atelier-danses-folk-mini-bal-18/
LOCATION:ESCDD – Salle communautaire\, Die\, 26150
ORGANIZER;CN="Folk en Diois":MAILTO:lanuitdufolkdioise@gmail.com
END:VEVENT
BEGIN:VEVENT
DTSTART;VALUE=DATE:20191228
DTEND;VALUE=DATE:20200101
DTSTAMP:20260424T210658
CREATED:20190825T140445Z
LAST-MODIFIED:20191210T100516Z
UID:3568-1577491200-1577836799@folkendiois.fr
SUMMARY:Le Réveillon de Châtillon !
DESCRIPTION:Les infos sur la page du réveillon !
URL:https://folkendiois.fr/event/le-reveillon-de-chatillon/
LOCATION:Salle Kubnick\, Route du Bez\, Châtillon-en-Diois\, 26410
ORGANIZER;CN="Folk en Diois":MAILTO:lanuitdufolkdioise@gmail.com
END:VEVENT
END:VCALENDAR